BEGIN:VCALENDAR
VERSION:2.0
PRODID:-//hacksw/handcal//NONSGML v1.0//EN
BEGIN:VEVENT
DTSTAMP:20190719T220000Z
DTSTART:20190719T220000Z
DTEND:20190719T220000Z
SUMMARY:Wanderung von Lichtenberg nach Hölle und Wanderung von Naila nach Culmitzhammer
END:VEVENT
END:VCALENDAR
