BEGIN:VCALENDAR
VERSION:2.0
PRODID:-//hacksw/handcal//NONSGML v1.0//EN
BEGIN:VEVENT
DTSTAMP:20190801T220000Z
DTSTART:20190801T220000Z
DTEND:20190801T220000Z
SUMMARY:Rundwanderung in Marktleuthen über Neudorf zum Biohof Ritter und Wanderung von Röslau nach Grün mit Besichtigung gKU Winterling
END:VEVENT
END:VCALENDAR
